View In:
ArcGIS JavaScript
ArcGIS Online Map Viewer
ArcGIS Earth
Service Description: IOCM/bathymetric_coverage_eez
Name: IOCM/bathymetric_coverage_eez
Description:
Single Fused Map Cache: false
Extent:
XMin: -180.00000125
YMin: -20.0
XMax: 179.99999875
YMax: 88.0
Spatial Reference: 4326
(4326)
LatestVCSWkid(0)
Initial Extent:
XMin: -180.00000125
YMin: -20.0
XMax: 179.99999875
YMax: 88.0
Spatial Reference: 4326
(4326)
LatestVCSWkid(0)
Full Extent:
XMin: -180.00000125
YMin: -20.0
XMax: 179.99999875
YMax: 88.0
Spatial Reference: 4326
(4326)
LatestVCSWkid(0)
Pixel Size X: 0.0011111111111111111
Pixel Size Y: 8.333333333333334E-4
Band Count: 1
Pixel Type: U8
RasterFunction Infos: {"rasterFunctionInfos": [
{
"name": "symbolize_bga_rasterfunction",
"description": "Applies the Attribute Table and Colormap raster functions to the Bathy Gap Analysis mosaic to ensure standardized symbols and pixel value mapping to text labels. ",
"help": "Raster functions will be applied by default when adding the associated Image Service to AGOL or ArcGIS Enterprise Web Maps."
},
{
"name": "None",
"description": "",
"help": ""
}
]}
Mensuration Capabilities: Basic
Has Histograms: true
Has Colormap: false
Has Multi Dimensions : false
Rendering Rule:
Min Scale: 0
Max Scale: 0
Copyright Text:
Service Data Type: esriImageServiceDataTypeGeneric
Min Values: 0
Max Values: 73
Mean Values: 16.298132412611
Standard Deviation Values: 25.954899991451
Object ID Field:
Fields:
None
Default Mosaic Method: Center
Allowed Mosaic Methods:
SortField:
SortValue: null
Mosaic Operator: First
Default Compression Quality: 75
Default Resampling Method: Nearest
Max Record Count: null
Max Image Height: 4100
Max Image Width: 15000
Max Download Image Count: null
Max Mosaic Image Count: null
Allow Raster Function: true
Allow Copy: true
Allow Analysis: true
Allow Compute TiePoints: false
Supports Statistics: false
Supports Advanced Queries: false
Use StandardizedQueries: true
Raster Type Infos:
Name: Raster Dataset
Description: Supports all ArcGIS Raster Datasets
Help:
Has Raster Attribute Table: true
Edit Fields Info: null
Ownership Based AccessControl For Rasters: null
Child Resources:
Info
Raster Attribute Table
Histograms
Statistics
Key Properties
Legend
Raster Function Infos
Supported Operations:
Export Image
Identify
Measure
Compute Histograms
Compute Statistics Histograms
Get Samples
Compute Class Statistics
Query Boundary
Compute Pixel Location
Compute Angles
Validate
Project