{
 "currentVersion": 11.1,
 "serviceDescription": "IOCM/bathymetric_coverage_eez",
 "name": "IOCM/bathymetric_coverage_eez",
 "description": "",
 "extent": {
  "xmin": -180.00000125,
  "ymin": -20,
  "xmax": 179.99999875,
  "ymax": 88,
  "spatialReference": {
   "wkid": 4326,
   "latestWkid": 4326
  }
 },
 "initialExtent": {
  "xmin": -180.00000125,
  "ymin": -20,
  "xmax": 179.99999875,
  "ymax": 88,
  "spatialReference": {
   "wkid": 4326,
   "latestWkid": 4326
  }
 },
 "fullExtent": {
  "xmin": -180.00000125,
  "ymin": -20,
  "xmax": 179.99999875,
  "ymax": 88,
  "spatialReference": {
   "wkid": 4326,
   "latestWkid": 4326
  }
 },
 "sortableFields": "",
 "bandCount": 1,
 "pixelType": "U8",
 "minValues": [
  0
 ],
 "maxValues": [
  73
 ],
 "meanValues": [
  16.298132412611
 ],
 "stdvValues": [
  25.954899991451
 ],
 "hasMultidimensions": false,
 "pixelSizeX": 0.0011111111111111111,
 "pixelSizeY": 8.333333333333334E-4,
 "datasetFormat": "TIFF",
 "uncompressedSize": 41990076000,
 "blockWidth": 324000,
 "blockHeight": 1,
 "compressionType": "DEFLATE",
 "bandNames": [
  "Band_1"
 ],
 "allowCopy": true,
 "allowAnalysis": true,
 "itemAccess": false,
 "noDataValue": 255,
 "noDataValues": [
  255
 ],
 "minPixelSize": 0,
 "maxPixelSize": 0,
 "copyrightText": "",
 "serviceDataType": "esriImageServiceDataTypeGeneric",
 "serviceSourceType": "esriImageServiceSourceTypeDataset",
 "objectIdField": "",
 "fields": [],
 "capabilities": "Mensuration,Image,Metadata",
 "defaultMosaicMethod": "Center",
 "allowedMosaicMethods": "",
 "sortField": "",
 "sortValue": null,
 "sortAscending": true,
 "mosaicOperator": "First",
 "defaultCompressionQuality": 75,
 "defaultResamplingMethod": "Nearest",
 "maxImageHeight": 4100,
 "maxImageWidth": 15000,
 "allowRasterFunction": true,
 "rasterFunctionInfos": [
  {
   "name": "symbolize_bga_rasterfunction",
   "description": "Applies the Attribute Table and Colormap raster functions to the Bathy Gap Analysis mosaic to ensure standardized symbols and pixel value mapping to text labels. ",
   "help": "Raster functions will be applied by default when adding the associated Image Service to AGOL or ArcGIS Enterprise Web Maps."
  },
  {
   "name": "None",
   "description": "",
   "help": ""
  }
 ],
 "rasterTypeInfos": [
  {
   "name": "Raster Dataset",
   "description": "Supports all ArcGIS Raster Datasets",
   "help": ""
  }
 ],
 "mensurationCapabilities": "Basic",
 "hasHistograms": true,
 "hasColormap": false,
 "hasRasterAttributeTable": true,
 "minScale": 0,
 "maxScale": 0,
 "exportTilesAllowed": false,
 "supportsStatistics": false,
 "supportsAdvancedQueries": false,
 "editFieldsInfo": null,
 "ownershipBasedAccessControlForRasters": null,
 "allowComputeTiePoints": false,
 "useStandardizedQueries": true,
 "advancedQueryCapabilities": {
  "useStandardizedQueries": true,
  "supportsStatistics": false,
  "supportsOrderBy": false,
  "supportsDistinct": false,
  "supportsPagination": false
 },
 "spatialReference": {
  "wkid": 4326,
  "latestWkid": 4326
 }
}
